BEGIN:VCALENDAR
VERSION:2.0
PRODID:-//Dunaújvárosi Vegyeskar - ECPv6.15.20//NONSGML v1.0//EN
CALSCALE:GREGORIAN
METHOD:PUBLISH
X-WR-CALNAME:Dunaújvárosi Vegyeskar
X-ORIGINAL-URL:https://dunaujvarosivegyeskar.hu
X-WR-CALDESC:Események Dunaújvárosi Vegyeskar
REFRESH-INTERVAL;VALUE=DURATION:PT1H
X-Robots-Tag:noindex
X-PUBLISHED-TTL:PT1H
BEGIN:VTIMEZONE
TZID:Europe/Budapest
BEGIN:DAYLIGHT
TZOFFSETFROM:+0100
TZOFFSETTO:+0200
TZNAME:CEST
DTSTART:20180325T010000
END:DAYLIGHT
BEGIN:STANDARD
TZOFFSETFROM:+0200
TZOFFSETTO:+0100
TZNAME:CET
DTSTART:20181028T010000
END:STANDARD
BEGIN:DAYLIGHT
TZOFFSETFROM:+0100
TZOFFSETTO:+0200
TZNAME:CEST
DTSTART:20190331T010000
END:DAYLIGHT
BEGIN:STANDARD
TZOFFSETFROM:+0200
TZOFFSETTO:+0100
TZNAME:CET
DTSTART:20191027T010000
END:STANDARD
BEGIN:DAYLIGHT
TZOFFSETFROM:+0100
TZOFFSETTO:+0200
TZNAME:CEST
DTSTART:20200329T010000
END:DAYLIGHT
BEGIN:STANDARD
TZOFFSETFROM:+0200
TZOFFSETTO:+0100
TZNAME:CET
DTSTART:20201025T010000
END:STANDARD
BEGIN:DAYLIGHT
TZOFFSETFROM:+0100
TZOFFSETTO:+0200
TZNAME:CEST
DTSTART:20210328T010000
END:DAYLIGHT
BEGIN:STANDARD
TZOFFSETFROM:+0200
TZOFFSETTO:+0100
TZNAME:CET
DTSTART:20211031T010000
END:STANDARD
BEGIN:DAYLIGHT
TZOFFSETFROM:+0100
TZOFFSETTO:+0200
TZNAME:CEST
DTSTART:20220327T010000
END:DAYLIGHT
BEGIN:STANDARD
TZOFFSETFROM:+0200
TZOFFSETTO:+0100
TZNAME:CET
DTSTART:20221030T010000
END:STANDARD
BEGIN:DAYLIGHT
TZOFFSETFROM:+0100
TZOFFSETTO:+0200
TZNAME:CEST
DTSTART:20230326T010000
END:DAYLIGHT
BEGIN:STANDARD
TZOFFSETFROM:+0200
TZOFFSETTO:+0100
TZNAME:CET
DTSTART:20231029T010000
END:STANDARD
BEGIN:DAYLIGHT
TZOFFSETFROM:+0100
TZOFFSETTO:+0200
TZNAME:CEST
DTSTART:20240331T010000
END:DAYLIGHT
BEGIN:STANDARD
TZOFFSETFROM:+0200
TZOFFSETTO:+0100
TZNAME:CET
DTSTART:20241027T010000
END:STANDARD
END:VTIMEZONE
BEGIN:VEVENT
DTSTART;TZID=Europe/Budapest:20231013T180000
DTEND;TZID=Europe/Budapest:20231013T193000
DTSTAMP:20260420T161312
CREATED:20231012T010640Z
LAST-MODIFIED:20231016T105432Z
UID:246714-1697220000-1697225400@dunaujvarosivegyeskar.hu
SUMMARY:Pentelei Napok koncert - 2023
DESCRIPTION:Helyszín:  Dunaújváros\, Evangélikus Templom\, Magyar út 53.\nDátum: 2023. október 13. péntek\,  18 óra\n\nA Pentelei Baráti Kör Egyesület – az idei Pentelei Napok keretében –  a Dunaújvárosi Evangélikus Templom javára jótékonysági koncertet szervez. \nA koncerten – többek között – a Dunaújvárosi Vegyeskar is fellép. \nTervezett programunk: \n\nBruckner: Locus iste\nBrahms: Bűvös éj\nKodály: Első áldozás\nKodály: Esti dal\n\nVezényel: Kurucz Gergely\nSOK SZERETETTEL VÁRUNK MINDENKIT! \nA jegyek megvásárlásával – a koncert helyszínén – közvetlenül járulnak hozzá a templom és a környezet fejlesztéséhez\, alakításához. \nTovábbi információ: DO\, 06 20 230 7712 \nKiemelt kép forrása: dunaujvaros.hu
URL:https://dunaujvarosivegyeskar.hu/esemeny/pentelei-napok-koncert-2023/
LOCATION:Dunaújvárosi Evangélikus Templom\, Dunaújváros\, 2400\, Magyarország
CATEGORIES:esemény,koncert
ATTACH;FMTTYPE=image/jpeg:https://dunaujvarosivegyeskar.hu/wp-content/uploads/2023/10/DET-1.jpg
ORGANIZER;CN="Pentelei Bar%C3%A1ti K%C3%B6r Egyes%C3%BClet":MAILTO:palinkas.bertalan@gmail.com
END:VEVENT
BEGIN:VEVENT
DTSTART;TZID=Europe/Budapest:20191201T180000
DTEND;TZID=Europe/Budapest:20191201T193000
DTSTAMP:20260420T161313
CREATED:20191128T163342Z
LAST-MODIFIED:20231126T123402Z
UID:5060-1575223200-1575228600@dunaujvarosivegyeskar.hu
SUMMARY:Adventi koncert - 2019
DESCRIPTION:Szeretettel várunk mindenkit \ndecember 1-én 18 órától \na Dunaújvárosi Vegyeskar és Baráth Bálint (orgona) közös adventi koncertjére.\nIgen szép programot állítottunk össze a gregoriántól\, a reneszánszon át az angol carol-énekeken keresztül a kortárs magyar kórusmuzsikáig. \nÉs ha valakinek mindez nem elég: \nkoncertünk előtt 17 órától Dinnyés József szólaltat meg karácsonyi énekeket a\nDunaújvárosi Evangélikus Templomban. \nA belépés ingyenes!
URL:https://dunaujvarosivegyeskar.hu/esemeny/adventi-koncert-2019/
LOCATION:Dunaújvárosi Evangélikus Templom\, Dunaújváros\, 2400\, Magyarország
CATEGORIES:koncert
ATTACH;FMTTYPE=image/jpeg:https://dunaujvarosivegyeskar.hu/wp-content/uploads/2019/11/adventi-koncert-2019.jpg
END:VEVENT
END:VCALENDAR