BEGIN:VCALENDAR
VERSION:2.0
PRODID:-//Dunaújvárosi Vegyeskar - ECPv6.15.20//NONSGML v1.0//EN
CALSCALE:GREGORIAN
METHOD:PUBLISH
X-ORIGINAL-URL:https://dunaujvarosivegyeskar.hu
X-WR-CALDESC:Események Dunaújvárosi Vegyeskar
REFRESH-INTERVAL;VALUE=DURATION:PT1H
X-Robots-Tag:noindex
X-PUBLISHED-TTL:PT1H
BEGIN:VTIMEZONE
TZID:Europe/Budapest
BEGIN:DAYLIGHT
TZOFFSETFROM:+0100
TZOFFSETTO:+0200
TZNAME:CEST
DTSTART:20240331T010000
END:DAYLIGHT
BEGIN:STANDARD
TZOFFSETFROM:+0200
TZOFFSETTO:+0100
TZNAME:CET
DTSTART:20241027T010000
END:STANDARD
BEGIN:DAYLIGHT
TZOFFSETFROM:+0100
TZOFFSETTO:+0200
TZNAME:CEST
DTSTART:20250330T010000
END:DAYLIGHT
BEGIN:STANDARD
TZOFFSETFROM:+0200
TZOFFSETTO:+0100
TZNAME:CET
DTSTART:20251026T010000
END:STANDARD
BEGIN:DAYLIGHT
TZOFFSETFROM:+0100
TZOFFSETTO:+0200
TZNAME:CEST
DTSTART:20260329T010000
END:DAYLIGHT
BEGIN:STANDARD
TZOFFSETFROM:+0200
TZOFFSETTO:+0100
TZNAME:CET
DTSTART:20261025T010000
END:STANDARD
END:VTIMEZONE
BEGIN:VEVENT
DTSTART;TZID=Europe/Budapest:20251207T160000
DTEND;TZID=Europe/Budapest:20251207T173000
DTSTAMP:20260420T023913
CREATED:20251118T190057Z
LAST-MODIFIED:20251204T183937Z
UID:247253-1765123200-1765128600@dunaujvarosivegyeskar.hu
SUMMARY:Adventi koncert Baracson - 2025
DESCRIPTION:Adventi koncert Baracson\n  \nA baracsi adventi program keretén belül\, 16 órától Baracs-Templomoson a Boldogságos Szűz Mária templomban a Dunaújvárosi Vegyeskar ad koncertet. Közreműködnek a település diákjai.\nTervezett műsorunk (Vezényel: Kurucz Gergely): \n\nHassler: Ünnepre jöttünk\nVictoria: Jesu dulcis\nPalestrina: Sicut cervus\nBárdos: Nyújtsd ki mennyből\nKodály: Adventi ének\nBárdos: Karácsonyi bölcsődal\nÓ boldog idő\nMennyből az angyal\nBach: Szép csillag\n\n  \nTovábbi részletek az Adventi programokról Baracson ITT!
URL:https://dunaujvarosivegyeskar.hu/esemeny/baracs-advent-koncert/
LOCATION:Baracsi Boldogságos Szűz Mária-templom\, Ady Endre út 63.\, Baracs\, Fejér\, 2423\, Hungary
CATEGORIES:Advent,esemény,koncert
ATTACH;FMTTYPE=image/jpeg:https://dunaujvarosivegyeskar.hu/wp-content/uploads/2025/11/DVK-2025-adventi-koncertek-2.het_.jpg
END:VEVENT
END:VCALENDAR