BEGIN:VCALENDAR
VERSION:2.0
PRODID:-//Dunaújvárosi Vegyeskar - ECPv6.15.20//NONSGML v1.0//EN
CALSCALE:GREGORIAN
METHOD:PUBLISH
X-WR-CALNAME:Dunaújvárosi Vegyeskar
X-ORIGINAL-URL:https://dunaujvarosivegyeskar.hu
X-WR-CALDESC:Események Dunaújvárosi Vegyeskar
REFRESH-INTERVAL;VALUE=DURATION:PT1H
X-Robots-Tag:noindex
X-PUBLISHED-TTL:PT1H
BEGIN:VTIMEZONE
TZID:Europe/Budapest
BEGIN:DAYLIGHT
TZOFFSETFROM:+0100
TZOFFSETTO:+0200
TZNAME:CEST
DTSTART:20180325T010000
END:DAYLIGHT
BEGIN:STANDARD
TZOFFSETFROM:+0200
TZOFFSETTO:+0100
TZNAME:CET
DTSTART:20181028T010000
END:STANDARD
BEGIN:DAYLIGHT
TZOFFSETFROM:+0100
TZOFFSETTO:+0200
TZNAME:CEST
DTSTART:20190331T010000
END:DAYLIGHT
BEGIN:STANDARD
TZOFFSETFROM:+0200
TZOFFSETTO:+0100
TZNAME:CET
DTSTART:20191027T010000
END:STANDARD
BEGIN:DAYLIGHT
TZOFFSETFROM:+0100
TZOFFSETTO:+0200
TZNAME:CEST
DTSTART:20200329T010000
END:DAYLIGHT
BEGIN:STANDARD
TZOFFSETFROM:+0200
TZOFFSETTO:+0100
TZNAME:CET
DTSTART:20201025T010000
END:STANDARD
END:VTIMEZONE
BEGIN:VEVENT
DTSTART;TZID=Europe/Budapest:20190308T170000
DTEND;TZID=Europe/Budapest:20190308T183000
DTSTAMP:20260420T112715
CREATED:20190306T144529Z
LAST-MODIFIED:20190306T144529Z
UID:4803-1552064400-1552069800@dunaujvarosivegyeskar.hu
SUMMARY:Bárdos Lajos emlékkoncert - 2019
DESCRIPTION:
URL:https://dunaujvarosivegyeskar.hu/esemeny/bardos-lajos-emlekkoncert-2019/
LOCATION:Városháza „C” szárny\, új házasságkötő terem\, Városháza tér 1.\, Dunaújváros\, 2400\, Magyarország
CATEGORIES:esemény,koncert
ATTACH;FMTTYPE=image/jpeg:https://dunaujvarosivegyeskar.hu/wp-content/uploads/2019/03/180217_bardos_plakat_a4.jpg
END:VEVENT
END:VCALENDAR