BEGIN:VCALENDAR
VERSION:2.0
PRODID:-//Dunaújvárosi Vegyeskar - ECPv6.15.20//NONSGML v1.0//EN
CALSCALE:GREGORIAN
METHOD:PUBLISH
X-WR-CALNAME:Dunaújvárosi Vegyeskar
X-ORIGINAL-URL:https://dunaujvarosivegyeskar.hu
X-WR-CALDESC:Események Dunaújvárosi Vegyeskar
REFRESH-INTERVAL;VALUE=DURATION:PT1H
X-Robots-Tag:noindex
X-PUBLISHED-TTL:PT1H
BEGIN:VTIMEZONE
TZID:Europe/Budapest
BEGIN:DAYLIGHT
TZOFFSETFROM:+0100
TZOFFSETTO:+0200
TZNAME:CEST
DTSTART:20210328T010000
END:DAYLIGHT
BEGIN:STANDARD
TZOFFSETFROM:+0200
TZOFFSETTO:+0100
TZNAME:CET
DTSTART:20211031T010000
END:STANDARD
BEGIN:DAYLIGHT
TZOFFSETFROM:+0100
TZOFFSETTO:+0200
TZNAME:CEST
DTSTART:20220327T010000
END:DAYLIGHT
BEGIN:STANDARD
TZOFFSETFROM:+0200
TZOFFSETTO:+0100
TZNAME:CET
DTSTART:20221030T010000
END:STANDARD
BEGIN:DAYLIGHT
TZOFFSETFROM:+0100
TZOFFSETTO:+0200
TZNAME:CEST
DTSTART:20230326T010000
END:DAYLIGHT
BEGIN:STANDARD
TZOFFSETFROM:+0200
TZOFFSETTO:+0100
TZNAME:CET
DTSTART:20231029T010000
END:STANDARD
END:VTIMEZONE
BEGIN:VEVENT
DTSTART;TZID=Europe/Budapest:20220612T170000
DTEND;TZID=Europe/Budapest:20220612T200000
DTSTAMP:20260420T093933
CREATED:20220526T190828Z
LAST-MODIFIED:20220529T051907Z
UID:245618-1655053200-1655064000@dunaujvarosivegyeskar.hu
SUMMARY:Pentelei Napok koncert - 2022
DESCRIPTION:Jótékonysági koncert\n\nHelyszín:  Dunaújváros\, Óvárosi Szentháromság Templom\, Magyar út 53.\nDátum: 2022. június 12. vasárnap\,  17 óra\n\nA Pentelei Baráti Kör Egyesület . az idei Pentelei Napok keretében – a tájképi\, helytörténeti és műemléki jelentőségű dunaújvárosi\, (óvárosi) Szentháromság római katolikus templom és környezetének szépítése javára jótékonysági koncertet szervez. \nA koncerten – többek között – a Dunaújvárosi Vegyeskar is fellép. \n  \nMűsor: \n\n\n\nRobert Faltus: Ave Maria\nOla Gjeilo: Ubi caritas\nBárdos Lajos: Nyújtsd ki mennyből\nKocsár Miklós: Hegyet hágék\n\n\n\n \nAz 1 500 Ft-os támogatói belépők megvásárlásával közvetlenül járulunk hozzá a Pentelei római katolikus templom és környezetének szépítéséhez. \nJegyek igényelhetők:06 30 686 2201 és 06 25 400 677 telefonszámokon. \nJótékonysági koncert – Pentelei Napok
URL:https://dunaujvarosivegyeskar.hu/esemeny/jotekonysagi-koncert-2022/
CATEGORIES:koncert
ATTACH;FMTTYPE=image/jpeg:https://dunaujvarosivegyeskar.hu/wp-content/uploads/2022/05/Szentharomsag_templom_pentelei.jpg
ORGANIZER;CN="Pentelei Bar%C3%A1ti K%C3%B6r Egyes%C3%BClet":MAILTO:palinkas.bertalan@gmail.com
END:VEVENT
END:VCALENDAR