BEGIN:VCALENDAR
VERSION:2.0
PRODID:-//Dunaújvárosi Vegyeskar - ECPv6.15.20//NONSGML v1.0//EN
CALSCALE:GREGORIAN
METHOD:PUBLISH
X-ORIGINAL-URL:https://dunaujvarosivegyeskar.hu
X-WR-CALDESC:Események Dunaújvárosi Vegyeskar
REFRESH-INTERVAL;VALUE=DURATION:PT1H
X-Robots-Tag:noindex
X-PUBLISHED-TTL:PT1H
BEGIN:VTIMEZONE
TZID:Europe/Budapest
BEGIN:DAYLIGHT
TZOFFSETFROM:+0100
TZOFFSETTO:+0200
TZNAME:CEST
DTSTART:20180325T010000
END:DAYLIGHT
BEGIN:STANDARD
TZOFFSETFROM:+0200
TZOFFSETTO:+0100
TZNAME:CET
DTSTART:20181028T010000
END:STANDARD
BEGIN:DAYLIGHT
TZOFFSETFROM:+0100
TZOFFSETTO:+0200
TZNAME:CEST
DTSTART:20190331T010000
END:DAYLIGHT
BEGIN:STANDARD
TZOFFSETFROM:+0200
TZOFFSETTO:+0100
TZNAME:CET
DTSTART:20191027T010000
END:STANDARD
BEGIN:DAYLIGHT
TZOFFSETFROM:+0100
TZOFFSETTO:+0200
TZNAME:CEST
DTSTART:20200329T010000
END:DAYLIGHT
BEGIN:STANDARD
TZOFFSETFROM:+0200
TZOFFSETTO:+0100
TZNAME:CET
DTSTART:20201025T010000
END:STANDARD
END:VTIMEZONE
BEGIN:VEVENT
DTSTART;TZID=Europe/Budapest:20191219T180000
DTEND;TZID=Europe/Budapest:20191219T190000
DTSTAMP:20260420T100231
CREATED:20191129T182815Z
LAST-MODIFIED:20191129T183034Z
UID:5075-1576778400-1576782000@dunaujvarosivegyeskar.hu
SUMMARY:Rácalmásiak Karácsonya - 2019
DESCRIPTION:
URL:https://dunaujvarosivegyeskar.hu/esemeny/racalmasiak-karacsonya-2019/
CATEGORIES:koncert
ATTACH;FMTTYPE=image/png:https://dunaujvarosivegyeskar.hu/wp-content/uploads/2019/11/Racalmasiak_Karacsonya.png
END:VEVENT
END:VCALENDAR