BEGIN:VCALENDAR
VERSION:2.0
PRODID:-//Dunaújvárosi Vegyeskar - ECPv6.15.20//NONSGML v1.0//EN
CALSCALE:GREGORIAN
METHOD:PUBLISH
X-WR-CALNAME:Dunaújvárosi Vegyeskar
X-ORIGINAL-URL:https://dunaujvarosivegyeskar.hu
X-WR-CALDESC:Események Dunaújvárosi Vegyeskar
REFRESH-INTERVAL;VALUE=DURATION:PT1H
X-Robots-Tag:noindex
X-PUBLISHED-TTL:PT1H
BEGIN:VTIMEZONE
TZID:Europe/Budapest
BEGIN:DAYLIGHT
TZOFFSETFROM:+0100
TZOFFSETTO:+0200
TZNAME:CEST
DTSTART:20170326T010000
END:DAYLIGHT
BEGIN:STANDARD
TZOFFSETFROM:+0200
TZOFFSETTO:+0100
TZNAME:CET
DTSTART:20171029T010000
END:STANDARD
BEGIN:DAYLIGHT
TZOFFSETFROM:+0100
TZOFFSETTO:+0200
TZNAME:CEST
DTSTART:20180325T010000
END:DAYLIGHT
BEGIN:STANDARD
TZOFFSETFROM:+0200
TZOFFSETTO:+0100
TZNAME:CET
DTSTART:20181028T010000
END:STANDARD
BEGIN:DAYLIGHT
TZOFFSETFROM:+0100
TZOFFSETTO:+0200
TZNAME:CEST
DTSTART:20190331T010000
END:DAYLIGHT
BEGIN:STANDARD
TZOFFSETFROM:+0200
TZOFFSETTO:+0100
TZNAME:CET
DTSTART:20191027T010000
END:STANDARD
END:VTIMEZONE
BEGIN:VEVENT
DTSTART;TZID=Europe/Budapest:20180927T160000
DTEND;TZID=Europe/Budapest:20180930T220000
DTSTAMP:20260420T114933
CREATED:20180530T163919Z
LAST-MODIFIED:20180927T200144Z
UID:3307-1538064000-1538344800@dunaujvarosivegyeskar.hu
SUMMARY:St. Lambrecht-i fesztivál
DESCRIPTION:
URL:https://dunaujvarosivegyeskar.hu/esemeny/st-lambrecht-i-fesztival/
LOCATION:St. Lambrecht\, St. Lambrecht\, Stájerország\, Ausztria
CATEGORIES:esemény,koncert
ATTACH;FMTTYPE=image/jpeg:https://dunaujvarosivegyeskar.hu/wp-content/uploads/2018/09/Plakat-Ausztria-2018.jpg
END:VEVENT
END:VCALENDAR