BEGIN:VCALENDAR
VERSION:2.0
PRODID:-//Dunaújvárosi Vegyeskar - ECPv6.15.20//NONSGML v1.0//EN
CALSCALE:GREGORIAN
METHOD:PUBLISH
X-WR-CALNAME:Dunaújvárosi Vegyeskar
X-ORIGINAL-URL:https://dunaujvarosivegyeskar.hu
X-WR-CALDESC:Események Dunaújvárosi Vegyeskar
REFRESH-INTERVAL;VALUE=DURATION:PT1H
X-Robots-Tag:noindex
X-PUBLISHED-TTL:PT1H
BEGIN:VTIMEZONE
TZID:Europe/Budapest
BEGIN:DAYLIGHT
TZOFFSETFROM:+0100
TZOFFSETTO:+0200
TZNAME:CEST
DTSTART:20240331T010000
END:DAYLIGHT
BEGIN:STANDARD
TZOFFSETFROM:+0200
TZOFFSETTO:+0100
TZNAME:CET
DTSTART:20241027T010000
END:STANDARD
BEGIN:DAYLIGHT
TZOFFSETFROM:+0100
TZOFFSETTO:+0200
TZNAME:CEST
DTSTART:20250330T010000
END:DAYLIGHT
BEGIN:STANDARD
TZOFFSETFROM:+0200
TZOFFSETTO:+0100
TZNAME:CET
DTSTART:20251026T010000
END:STANDARD
BEGIN:DAYLIGHT
TZOFFSETFROM:+0100
TZOFFSETTO:+0200
TZNAME:CEST
DTSTART:20260329T010000
END:DAYLIGHT
BEGIN:STANDARD
TZOFFSETFROM:+0200
TZOFFSETTO:+0100
TZNAME:CET
DTSTART:20261025T010000
END:STANDARD
END:VTIMEZONE
BEGIN:VEVENT
DTSTART;TZID=Europe/Budapest:20251108T160000
DTEND;TZID=Europe/Budapest:20251108T180000
DTSTAMP:20260420T033815
CREATED:20251103T064551Z
LAST-MODIFIED:20251103T083024Z
UID:247147-1762617600-1762624800@dunaujvarosivegyeskar.hu
SUMMARY:XIV. Dréta Antal Egyházzenei Kórustalálkozó - 2025
DESCRIPTION:A Dunaújvárosi Vegyeskar idén is részt vesz a már hagyományosan megrendezett \nXIV. Dréta Antal Egyházzenei Kórustalálkozón  \n2025. november 8-án\, 16 órai kezdettel a mezőfalvi katolikus templomban. \nA fellépők: \n\nDunaújvárosi Vegyeskar\nMezőfalvi Nőikar\nRácalmási Glória Kamarakórus\nSimontornyai Kammer Ferenc Kórus\n\nKözreműködnek: \n\nPetőfi Sándor Általános Iskola\nAMI művészetoktatásban tanuló zenész növendékek\n\nKórusunk tervezett műsora: \n\nVictoria: Jesu\, dulcis memoria\nAsola: Surrexit pastor bonus\nPalestrina: Sicut cervus\nBárdos: Nyújtsd ki mennyből\n\n  \nA belépés díjtalan! \nMindenkit sok szeretettel várunk!
URL:https://dunaujvarosivegyeskar.hu/esemeny/xiv-dreta-antal-korustalalkozo-2025/
LOCATION:Mezőfalvi Magyarok Nagyasszonya Katolikus Templom\, Kinizsi Pál u. 34\, Mezőfalva\, Fejér\, 2422\, Magyarország
CATEGORIES:esemény,koncert
ATTACH;FMTTYPE=image/jpeg:https://dunaujvarosivegyeskar.hu/wp-content/uploads/2025/11/Dreta-2025-esemeny-cover-2.jpg
END:VEVENT
BEGIN:VEVENT
DTSTART;TZID=Europe/Budapest:20251130T181500
DTEND;TZID=Europe/Budapest:20251130T193000
DTSTAMP:20260420T033816
CREATED:20251118T183456Z
LAST-MODIFIED:20251118T183456Z
UID:247237-1764526500-1764531000@dunaujvarosivegyeskar.hu
SUMMARY:Adventi koncert Dunaújvárosban - 2025
DESCRIPTION:Koncert az ADVENTI FORGATAG részeként\na dunaújvárosi Városháza téren\n  \nAz első gyertya meggyújtásával kezdetét veszi az év egyik legszebb és legmeghittebb időszaka\, és ezzel együtt a Városháza téri „Adventi Forgatag” is megnyitja kapuit\, ahol a Dunaújvárosi Vegyeskar is ünnepi koncertet ad.\nTervezett műsorunk (Vezényel: Kurucz Gergely): \n\nA szeleknek…\nHassler: Ünnepre jöttünk\nVictoria: Jesu dulcis\nKodály: Adventi ének\nBárdos: Karácsonyi bölcsődal\nÓ boldog idő\nMennyből az angyal\nBach: Szép csillag\n\n  \nTovábbi részletek az Adventi Forgatagról ITT!
URL:https://dunaujvarosivegyeskar.hu/esemeny/adventi-koncert-dunaujvaros-2025/
LOCATION:Városháza tér\, Városháza tér 1.\, Dunaújváros\, Fejér\, 2400\, Hungary
CATEGORIES:Advent,esemény,koncert
END:VEVENT
END:VCALENDAR