BEGIN:VCALENDAR
VERSION:2.0
PRODID:-//Dunaújvárosi Vegyeskar - ECPv6.15.20//NONSGML v1.0//EN
CALSCALE:GREGORIAN
METHOD:PUBLISH
X-ORIGINAL-URL:https://dunaujvarosivegyeskar.hu
X-WR-CALDESC:Események Dunaújvárosi Vegyeskar
REFRESH-INTERVAL;VALUE=DURATION:PT1H
X-Robots-Tag:noindex
X-PUBLISHED-TTL:PT1H
BEGIN:VTIMEZONE
TZID:Europe/Budapest
BEGIN:DAYLIGHT
TZOFFSETFROM:+0100
TZOFFSETTO:+0200
TZNAME:CEST
DTSTART:20250330T010000
END:DAYLIGHT
BEGIN:STANDARD
TZOFFSETFROM:+0200
TZOFFSETTO:+0100
TZNAME:CET
DTSTART:20251026T010000
END:STANDARD
BEGIN:DAYLIGHT
TZOFFSETFROM:+0100
TZOFFSETTO:+0200
TZNAME:CEST
DTSTART:20260329T010000
END:DAYLIGHT
BEGIN:STANDARD
TZOFFSETFROM:+0200
TZOFFSETTO:+0100
TZNAME:CET
DTSTART:20261025T010000
END:STANDARD
BEGIN:DAYLIGHT
TZOFFSETFROM:+0100
TZOFFSETTO:+0200
TZNAME:CEST
DTSTART:20270328T010000
END:DAYLIGHT
BEGIN:STANDARD
TZOFFSETFROM:+0200
TZOFFSETTO:+0100
TZNAME:CET
DTSTART:20271031T010000
END:STANDARD
END:VTIMEZONE
BEGIN:VEVENT
DTSTART;TZID=Europe/Budapest:20260329T170000
DTEND;TZID=Europe/Budapest:20260329T183000
DTSTAMP:20260420T071834
CREATED:20260311T211441Z
LAST-MODIFIED:20260324T153356Z
UID:247401-1774803600-1774809000@dunaujvarosivegyeskar.hu
SUMMARY:Virágvasárnapi koncert - 2026
DESCRIPTION:Hagyományos Virágvasárnapi koncertünkre mindenkit sok szeretettel vár a Dunaújvárosi Vegyeskar!\nTervezett műsor: \n\n Asola: Surrexit pastor bonus\n Mozart: De profundis\n Lukas: Lacrymosa\n Mozart: Lacrymosa\n Mozart: Ave verum\n Bárdos: Vexilla Christus\n Kodály: Jövel Szentlélek\n Kocsár: Pater noster\n Faltus: Ave Maria\nAnglea: Jubilate deo\nTrotta: Ubi Caritas\nCohen: Halleluja (Shrek)\n\n  \nA belépés ingyenes.
URL:https://dunaujvarosivegyeskar.hu/esemeny/viragvasarnapi-koncert-2026/
LOCATION:Református Templom\, Dunaújváros\, Dunaújváros\, 2400\, Magyarország
CATEGORIES:koncert
ATTACH;FMTTYPE=image/avif:https://dunaujvarosivegyeskar.hu/wp-content/uploads/2026/03/DVK-Viragvasarnap-kiemelt-kep.2026.avif
END:VEVENT
BEGIN:VEVENT
DTSTART;TZID=Europe/Budapest:20260430T170000
DTEND;TZID=Europe/Budapest:20260430T190000
DTSTAMP:20260420T071834
CREATED:20260416T100700Z
LAST-MODIFIED:20260416T101744Z
UID:247424-1777568400-1777575600@dunaujvarosivegyeskar.hu
SUMMARY:29. Jótékonysági Pedagógus koncert
DESCRIPTION:A Dunaújvárosi Vegyeskar idén is részt vesz a hagyományos jótékonysági koncerten\nMűsorunk: \n\nLukas: Lacrymosa\nFarkas Ferenc: Pataki diákdalok\n\nVezényel: Kurucz Gergely \nJegyek kaphatók:\n– a helyszínen\n– a Móricz Zsigmond Általános Iskolában (Dunaújváros\, Kodály Zoltán utca 7\, 2400)\n– a Sándor Frigyes Zeneiskolában (Dunaújváros\, Bartók Béla út 6\, 2400) \n  \n \n  \nSok szeretettel várunk mindenkit!
URL:https://dunaujvarosivegyeskar.hu/esemeny/29-jotekonysagi-pedagogus-koncert-2026/
LOCATION:Dunaújvárosi Evangélikus Templom\, Dunaújváros\, 2400\, Magyarország
CATEGORIES:esemény,koncert
ATTACH;FMTTYPE=image/avif:https://dunaujvarosivegyeskar.hu/wp-content/uploads/2026/04/Jotekonysagi-Pedagogus-koncert-2026.avif
END:VEVENT
END:VCALENDAR