BEGIN:VCALENDAR
VERSION:2.0
PRODID:-//Dunaújvárosi Vegyeskar - ECPv6.15.20//NONSGML v1.0//EN
CALSCALE:GREGORIAN
METHOD:PUBLISH
X-ORIGINAL-URL:https://dunaujvarosivegyeskar.hu
X-WR-CALDESC:Események Dunaújvárosi Vegyeskar
REFRESH-INTERVAL;VALUE=DURATION:PT1H
X-Robots-Tag:noindex
X-PUBLISHED-TTL:PT1H
BEGIN:VTIMEZONE
TZID:Europe/Budapest
BEGIN:DAYLIGHT
TZOFFSETFROM:+0100
TZOFFSETTO:+0200
TZNAME:CEST
DTSTART:20160327T010000
END:DAYLIGHT
BEGIN:STANDARD
TZOFFSETFROM:+0200
TZOFFSETTO:+0100
TZNAME:CET
DTSTART:20161030T010000
END:STANDARD
BEGIN:DAYLIGHT
TZOFFSETFROM:+0100
TZOFFSETTO:+0200
TZNAME:CEST
DTSTART:20170326T010000
END:DAYLIGHT
BEGIN:STANDARD
TZOFFSETFROM:+0200
TZOFFSETTO:+0100
TZNAME:CET
DTSTART:20171029T010000
END:STANDARD
BEGIN:DAYLIGHT
TZOFFSETFROM:+0100
TZOFFSETTO:+0200
TZNAME:CEST
DTSTART:20180325T010000
END:DAYLIGHT
BEGIN:STANDARD
TZOFFSETFROM:+0200
TZOFFSETTO:+0100
TZNAME:CET
DTSTART:20181028T010000
END:STANDARD
BEGIN:DAYLIGHT
TZOFFSETFROM:+0100
TZOFFSETTO:+0200
TZNAME:CEST
DTSTART:20190331T010000
END:DAYLIGHT
BEGIN:STANDARD
TZOFFSETFROM:+0200
TZOFFSETTO:+0100
TZNAME:CET
DTSTART:20191027T010000
END:STANDARD
BEGIN:DAYLIGHT
TZOFFSETFROM:+0100
TZOFFSETTO:+0200
TZNAME:CEST
DTSTART:20200329T010000
END:DAYLIGHT
BEGIN:STANDARD
TZOFFSETFROM:+0200
TZOFFSETTO:+0100
TZNAME:CET
DTSTART:20201025T010000
END:STANDARD
END:VTIMEZONE
BEGIN:VEVENT
DTSTART;TZID=Europe/Budapest:20191201T180000
DTEND;TZID=Europe/Budapest:20191201T193000
DTSTAMP:20260420T043122
CREATED:20191128T163342Z
LAST-MODIFIED:20231126T123402Z
UID:5060-1575223200-1575228600@dunaujvarosivegyeskar.hu
SUMMARY:Adventi koncert - 2019
DESCRIPTION:Szeretettel várunk mindenkit \ndecember 1-én 18 órától \na Dunaújvárosi Vegyeskar és Baráth Bálint (orgona) közös adventi koncertjére.\nIgen szép programot állítottunk össze a gregoriántól\, a reneszánszon át az angol carol-énekeken keresztül a kortárs magyar kórusmuzsikáig. \nÉs ha valakinek mindez nem elég: \nkoncertünk előtt 17 órától Dinnyés József szólaltat meg karácsonyi énekeket a\nDunaújvárosi Evangélikus Templomban. \nA belépés ingyenes!
URL:https://dunaujvarosivegyeskar.hu/esemeny/adventi-koncert-2019/
LOCATION:Dunaújvárosi Evangélikus Templom\, Dunaújváros\, 2400\, Magyarország
CATEGORIES:koncert
ATTACH;FMTTYPE=image/jpeg:https://dunaujvarosivegyeskar.hu/wp-content/uploads/2019/11/adventi-koncert-2019.jpg
END:VEVENT
BEGIN:VEVENT
DTSTART;TZID=Europe/Budapest:20190415T170000
DTEND;TZID=Europe/Budapest:20190415T200000
DTSTAMP:20260420T043122
CREATED:20190404T115009Z
LAST-MODIFIED:20190404T115009Z
UID:5001-1555347600-1555358400@dunaujvarosivegyeskar.hu
SUMMARY:Jótékonysági Pedagóguskoncert
DESCRIPTION:
URL:https://dunaujvarosivegyeskar.hu/esemeny/jotekonysagi-pedagoguskoncert/
LOCATION:Dunaújvárosi Evangélikus Templom\, Dunaújváros\, 2400\, Magyarország
CATEGORIES:esemény,koncert
ATTACH;FMTTYPE=image/jpeg:https://dunaujvarosivegyeskar.hu/wp-content/uploads/2019/04/JOTEKONYSAGI-PEDAGOGUSKONCERT-2019.jpg
END:VEVENT
BEGIN:VEVENT
DTSTART;TZID=Europe/Budapest:20190407T180000
DTEND;TZID=Europe/Budapest:20190407T193000
DTSTAMP:20260420T043122
CREATED:20190324T051443Z
LAST-MODIFIED:20190324T051541Z
UID:4906-1554660000-1554665400@dunaujvarosivegyeskar.hu
SUMMARY:Virágvasárnapi koncert - 2019
DESCRIPTION:
URL:https://dunaujvarosivegyeskar.hu/esemeny/viragvasarnapi-koncert-2019/
LOCATION:Református Templom\, Dunaújváros\, Dunaújváros\, 2400\, Magyarország
CATEGORIES:esemény,koncert
ATTACH;FMTTYPE=image/jpeg:https://dunaujvarosivegyeskar.hu/wp-content/uploads/2019/03/2019_viragvasarnap_2_page-0001.jpg
END:VEVENT
BEGIN:VEVENT
DTSTART;TZID=Europe/Budapest:20190308T170000
DTEND;TZID=Europe/Budapest:20190308T183000
DTSTAMP:20260420T043122
CREATED:20190306T144529Z
LAST-MODIFIED:20190306T144529Z
UID:4803-1552064400-1552069800@dunaujvarosivegyeskar.hu
SUMMARY:Bárdos Lajos emlékkoncert - 2019
DESCRIPTION:
URL:https://dunaujvarosivegyeskar.hu/esemeny/bardos-lajos-emlekkoncert-2019/
LOCATION:Városháza „C” szárny\, új házasságkötő terem\, Városháza tér 1.\, Dunaújváros\, 2400\, Magyarország
CATEGORIES:esemény,koncert
ATTACH;FMTTYPE=image/jpeg:https://dunaujvarosivegyeskar.hu/wp-content/uploads/2019/03/180217_bardos_plakat_a4.jpg
END:VEVENT
BEGIN:VEVENT
DTSTART;TZID=Europe/Budapest:20181202T180000
DTEND;TZID=Europe/Budapest:20181202T193000
DTSTAMP:20260420T043122
CREATED:20181114T135937Z
LAST-MODIFIED:20181127T054556Z
UID:3859-1543773600-1543779000@dunaujvarosivegyeskar.hu
SUMMARY:Adventi koncert - 2018
DESCRIPTION:Tervezett műsorunk:\n1. Kodály: Adventi ének\n2. Leavitt: Missa Festiva – Kyrie\n3. Leavitt: Missa Festiva – Gloria\n4. Mozart: De profundis\n5. Schubert: Salve Regina\n6. Tillai: Lauda Sion\n7. Kodály: Első áldozás\n8. Thompson: Alleluia\n9: Leavitt: Credo\n10. BARÁTH BÁLINT orgonál\n11. Kodály: Sík Sándor Te Deuma\n12. Leavitt: Missa Festiva – Sanctus\n13. Leavitt: Missa Festiva – Agnus dei\n14. Csillagfényes (francia karácsonyi ének)\n15. Bach: Szép csillag\n16. Oh\, boldog idő\n\nMindenkit sok szeretettel várunk!
URL:https://dunaujvarosivegyeskar.hu/esemeny/adventi-koncert-2018/
LOCATION:Krisztus Király Katolikus Főtemplom\, II. János Pál pápa tér 1\,\, Dunaújváros\, 2400\, Magyarország
CATEGORIES:esemény,koncert
ATTACH;FMTTYPE=image/jpeg:https://dunaujvarosivegyeskar.hu/wp-content/uploads/2018/11/advent-2018.jpg
END:VEVENT
BEGIN:VEVENT
DTSTART;TZID=Europe/Budapest:20181026T170000
DTEND;TZID=Europe/Budapest:20181026T180000
DTSTAMP:20260420T043122
CREATED:20181013T012258Z
LAST-MODIFIED:20181013T100421Z
UID:3672-1540573200-1540576800@dunaujvarosivegyeskar.hu
SUMMARY:Az 5x6 című fotókiállítás megnyitója
DESCRIPTION:A „Szubjektíven több objektíven keresztül” nevű amatőr fotóscsoport\n(tagjai: Szalainé Detti\, Bánvölgyi Sára\, Temesi László\, Dobozi Gábor és Kovácsné Danó Viktória)\nkiállításának megnyitója\n2018. október 26-án 17.00 órakor lesz a\nSándor Frigyes Zeneiskolában\, amin a Vegyeskar is közreműködik.
URL:https://dunaujvarosivegyeskar.hu/esemeny/az-5x6-cimu-fotokiallitas-megnyitoja/
LOCATION:Sándor Frigyes Zeneiskola\, Bartók Béla utca 6.\, Dunaújváros\, 2400\, Magyarország
CATEGORIES:esemény,koncert
ATTACH;FMTTYPE=image/jpeg:https://dunaujvarosivegyeskar.hu/wp-content/uploads/2018/10/korustalalkozo.jpg
END:VEVENT
BEGIN:VEVENT
DTSTART;TZID=Europe/Budapest:20181026T144500
DTEND;TZID=Europe/Budapest:20181026T200000
DTSTAMP:20260420T043122
CREATED:20181013T005157Z
LAST-MODIFIED:20181027T125816Z
UID:3660-1540565100-1540584000@dunaujvarosivegyeskar.hu
SUMMARY:50 éves jubileumi kórustalálkozó a gimiben!
DESCRIPTION:Sok kórustagunkat is érinti\, hogy városunk gimnáziuma most ünnepli kóruséletének 50 éves évfordulóját.\nEbből az alkalomból várják az egykori tagokat közös éneklésre és beszélgetésre\na dunaújvárosi Széchenyi István Gimnáziumba 2018. október 26-án\, pénteken\, 14:45-től. \nVendég: „A zene mindenkié!” Egyesület Parafónia zenekara. \nA Széchenyi István Gimnázium részletes felhívása ide kattintva olvasható! \nA kiemelt képen: A gimnázium énekkara 1978. május 27-én\, Pécsett. Vezényel dr. Varga András
URL:https://dunaujvarosivegyeskar.hu/esemeny/50-eves-jubileumi-korustalalkozo-a-gimiben/
LOCATION:Széchenyi István Gimnázium\, Dunaújváros\, Dózsa György út 15/A\, Dunaújváros\, 2400\, Magyarország
CATEGORIES:esemény
ATTACH;FMTTYPE=image/jpeg:https://dunaujvarosivegyeskar.hu/wp-content/uploads/2018/10/1978_05_27_Pecs_1200.jpg
END:VEVENT
BEGIN:VEVENT
DTSTART;TZID=Europe/Budapest:20180927T160000
DTEND;TZID=Europe/Budapest:20180930T220000
DTSTAMP:20260420T043122
CREATED:20180530T163919Z
LAST-MODIFIED:20180927T200144Z
UID:3307-1538064000-1538344800@dunaujvarosivegyeskar.hu
SUMMARY:St. Lambrecht-i fesztivál
DESCRIPTION:
URL:https://dunaujvarosivegyeskar.hu/esemeny/st-lambrecht-i-fesztival/
LOCATION:St. Lambrecht\, St. Lambrecht\, Stájerország\, Ausztria
CATEGORIES:esemény,koncert
ATTACH;FMTTYPE=image/jpeg:https://dunaujvarosivegyeskar.hu/wp-content/uploads/2018/09/Plakat-Ausztria-2018.jpg
END:VEVENT
BEGIN:VEVENT
DTSTART;TZID=Europe/Budapest:20180901T180000
DTEND;TZID=Europe/Budapest:20180901T190000
DTSTAMP:20260420T043122
CREATED:20180530T162310Z
LAST-MODIFIED:20180615T222503Z
UID:3300-1535824800-1535828400@dunaujvarosivegyeskar.hu
SUMMARY:Ligetzáró koncert
DESCRIPTION:A Bartók Kamaraszínház háta mögött várunk szeretettel mindenkit.
URL:https://dunaujvarosivegyeskar.hu/esemeny/ligetzaro-koncert/
LOCATION:Petőfi liget\, Petőfi liget\, Dunaújváros\, 2400\, Magyarország
CATEGORIES:esemény,koncert
ATTACH;FMTTYPE=image/jpeg:https://dunaujvarosivegyeskar.hu/wp-content/uploads/2018/05/liget-2018.jpg
END:VEVENT
BEGIN:VEVENT
DTSTART;TZID=Europe/Budapest:20180713T170000
DTEND;TZID=Europe/Budapest:20180713T180000
DTSTAMP:20260420T043122
CREATED:20180710T221307Z
LAST-MODIFIED:20180710T221307Z
UID:3476-1531501200-1531504800@dunaujvarosivegyeskar.hu
SUMMARY:XLI. Vasas- és Kohásznap
DESCRIPTION:A XLI. Vasas- és Kohásznap szervezői idén is megkeresték kórusunkat\, hogy működjön közre a rendezvényen.
URL:https://dunaujvarosivegyeskar.hu/esemeny/xli-vasas-es-kohasznap/
CATEGORIES:esemény,koncert
ATTACH;FMTTYPE=image/jpeg:https://dunaujvarosivegyeskar.hu/wp-content/uploads/2018/07/41.Vasasnap-plakat.jpg
END:VEVENT
BEGIN:VEVENT
DTSTART;TZID=Europe/Budapest:20180630T180000
DTEND;TZID=Europe/Budapest:20180630T193000
DTSTAMP:20260420T043122
CREATED:20180607T200407Z
LAST-MODIFIED:20180627T101843Z
UID:3328-1530381600-1530387000@dunaujvarosivegyeskar.hu
SUMMARY:Évadzáró koncert - 2018
DESCRIPTION:Tervezett programunk:\n1. rész \nPitoni: Laudate Dominum\nLassus: Matona mia cara (Zsoldos szerenád)\nLassus: Je l’ayme bien\nLassus: Audite nova\nTillai Aurél: Kocsizás újholdnál Athénban\nBárdos: Szól a doromb \n2. rész \nBaráth Bálint zongorázik \n3. rész \nCerton: Víg dal\nLeavitt: Missa Festiva –\n1. Kyrie\, 2. Gloria\nKodály: Első áldozás\nKodály: Sík Sándor Te deuma\nTillai: Valamennyi búzaszál\nBartók: Négy szlovák népdal\nKocsár: Forintos nóták
URL:https://dunaujvarosivegyeskar.hu/esemeny/evadzaro-koncert-2018/
LOCATION:Kortárs Művészeti Intézet\, Vasmű út 12.\, Dunaújváros\, 2400\, Magyarország
CATEGORIES:koncert
ATTACH;FMTTYPE=image/jpeg:https://dunaujvarosivegyeskar.hu/wp-content/uploads/2018/06/plakat_2018-evadzaro.jpg
END:VEVENT
BEGIN:VEVENT
DTSTART;TZID=Europe/Budapest:20180604T160000
DTEND;TZID=Europe/Budapest:20180604T170000
DTSTAMP:20260420T043122
CREATED:20180530T161814Z
LAST-MODIFIED:20180530T161814Z
UID:3298-1528128000-1528131600@dunaujvarosivegyeskar.hu
SUMMARY:A Nemzeti Összetartozás Napja
DESCRIPTION:
URL:https://dunaujvarosivegyeskar.hu/esemeny/a-nemzeti-osszetartozas-napja/
LOCATION:Dunaújvárosi Evangélikus Templom\, Dunaújváros\, 2400\, Magyarország
CATEGORIES:esemény,koncert
END:VEVENT
BEGIN:VEVENT
DTSTART;TZID=Europe/Budapest:20180325T190000
DTEND;TZID=Europe/Budapest:20180325T203000
DTSTAMP:20260420T043122
CREATED:20180227T004507Z
LAST-MODIFIED:20180324T204316Z
UID:3024-1522004400-1522009800@dunaujvarosivegyeskar.hu
SUMMARY:Virágvasárnapi koncert
DESCRIPTION:Virágvasárnapi koncertet ad a\nDunaújvárosi Vegyeskar\n2018. március 25-én\, virágvasárnapi ünnepre várjuk a Református Templomban 19 órától a tisztelt érdeklődőket! \nMűsor: \n\nPitoni: Laudate Dominum\nBruckner: Locus Iste\nLiszt: Korálok\nKovács Levente: Krisztus feltámadt (Pfeiffer Gyula – orgona)\nBárdos: Jeremiás próféta könyörgése\nKodály: Sík Sándor Te deuma\nKodály: Első áldozás\nKodály: 121. genfi zsoltár\nFelvirradt áldott szép napunk\n\nA belépés ingyenes!
URL:https://dunaujvarosivegyeskar.hu/esemeny/viragvasarnapi-koncert/
LOCATION:Református Templom\, Dunaújváros\, Dunaújváros\, 2400\, Magyarország
CATEGORIES:esemény,koncert
ATTACH;FMTTYPE=image/jpeg:https://dunaujvarosivegyeskar.hu/wp-content/uploads/2018/02/Viragvasarnap-plakat.jpg
END:VEVENT
BEGIN:VEVENT
DTSTART;TZID=Europe/Budapest:20180312T170000
DTEND;TZID=Europe/Budapest:20180312T183000
DTSTAMP:20260420T043122
CREATED:20180227T002827Z
LAST-MODIFIED:20180301T062655Z
UID:3018-1520874000-1520879400@dunaujvarosivegyeskar.hu
SUMMARY:Csipkekiállítás
DESCRIPTION:Csipkekiállítás nyílik † Köller Mária csodálatos hagyatékából\nBankovics Péterné (született Köller Mária) varázslatos csipkéit láthatják a Munkásművelődési Központban\n2018. március 12-én\, 17 órai kezdettel.\nAz eseményen kórusunk is részt vesz. \nMindenkit sok szeretettel várunk az ingyenes megnyitóra! \n 
URL:https://dunaujvarosivegyeskar.hu/esemeny/csipkekiallitas/
LOCATION:Munkáművelődési Központ\, Dunaújváros\, Apáczai Cs. János u. 11.\, Dunaújváros\, 2400\, Magyarország
CATEGORIES:esemény
ATTACH;FMTTYPE=image/jpeg:https://dunaujvarosivegyeskar.hu/wp-content/uploads/2018/02/csipkenosztalgia-plakat.jpg
END:VEVENT
BEGIN:VEVENT
DTSTART;TZID=Europe/Budapest:20180122T180000
DTEND;TZID=Europe/Budapest:20180122T190000
DTSTAMP:20260420T043122
CREATED:20180109T134506Z
LAST-MODIFIED:20180126T041139Z
UID:2968-1516644000-1516647600@dunaujvarosivegyeskar.hu
SUMMARY:Pro Cultura Intercisae díj átadása a magyar kultúra napján
DESCRIPTION:A Dunaújvárosi Vegyeskar fellépése a magyar kultúra napján\, a Pro Cultura Intercisae díj átadásán\n  \nDunaújvárosban hétfőn (2018. január 22-én)\, a magyar kultúra napján adták át a Dunaújvárosi Önkormányzat\nPro Cultura Intercisae elnevezésű díját.\nA városháza rendezvénytermében („C” szárny) ünnepi koncertet adott a\nSándor Frigyes Alapfokú Művészeti Iskola tanári kamaracsoportja és a Dunaújvárosi Vegyeskar. \nTovábbi részletek ITT.
URL:https://dunaujvarosivegyeskar.hu/esemeny/magyar-kultura-napja-2018/
LOCATION:Városháza „C” szárny\, új házasságkötő terem\, Városháza tér 1.\, Dunaújváros\, 2400\, Magyarország
CATEGORIES:esemény
ATTACH;FMTTYPE=image/jpeg:https://dunaujvarosivegyeskar.hu/wp-content/uploads/2018/01/magyar-kultura-napja-e1518690453178.jpg
END:VEVENT
BEGIN:VEVENT
DTSTART;TZID=Europe/Budapest:20171209T170000
DTEND;TZID=Europe/Budapest:20171209T183000
DTSTAMP:20260420T043122
CREATED:20171026T151743Z
LAST-MODIFIED:20171129T214723Z
UID:2709-1512838800-1512844200@dunaujvarosivegyeskar.hu
SUMMARY:Adventi koncert a reformáció jegyében
DESCRIPTION:Adventi koncertünk nemcsak az advent örömteli várakozását idézi fel\, hanem a reformáció 500. évfordulójára is emlékezik. \nAdventi műsorunk:\n\nNégy népdal (Ó\, szerencsés éjszaka; Mostan kinyílt; Repüljetek angyalok; A szeleknek)\nKodály Zoltán: 121. genfi zsoltár\nBárdos Lajos: Jeremiás próféta könyörgése\nLuther Márton: Erős vár a mi Istenünk\nLiszt Ferenc: Két zsoltárfeldolgozás\nKovács Levente: Krisztus feltámadt\nBach: Szép csillag\nÓ boldog idő\nKarai József – Balogh Zoltán: Karácsonyi dalok\nMennyből az angyal\nKodály Zoltán: Esti dal\n\nKözreműködik:\nBaráth Bálint orgonán \nHegyi István zongorán \nVezényel:\nKönyves Ágnes és Kurucz Gergely \nA belépés ingyenes.\nMinden érdeklődőt szeretettel várunk! \nTovábbi részletek ITT és ITT.
URL:https://dunaujvarosivegyeskar.hu/esemeny/adventi-koncert-reformacio-jegyeben/
LOCATION:Dunaújvárosi Evangélikus Templom\, Dunaújváros\, 2400\, Magyarország
CATEGORIES:esemény,koncert
ATTACH;FMTTYPE=image/jpeg:https://dunaujvarosivegyeskar.hu/wp-content/uploads/2017/10/advent_ref_plak_2017.jpg
END:VEVENT
BEGIN:VEVENT
DTSTART;TZID=Europe/Budapest:20171203T180000
DTEND;TZID=Europe/Budapest:20171203T183000
DTSTAMP:20260420T043122
CREATED:20171026T151332Z
LAST-MODIFIED:20171129T214453Z
UID:2706-1512324000-1512325800@dunaujvarosivegyeskar.hu
SUMMARY:Adventi éneklés a Városháza téren
DESCRIPTION:A Dunaújvárosi Vegyeskar műsora:\n\nNégy népdal (Ó\, szerencsés éjszaka; Mostan kinyílt; Repüljetek angyalok; A szeleknek)\nÓ boldog idő (Szicíliai népdal)\nBach: Szép csillag\nBárdos Lajos: Karácsonyi bölcsődal\nMennyből az angyal\nKarai József – Balogh Zoltán: Karácsonyi dalok\n\nA karácsony időszak városi rendezvényeiről – benne kórusunk fellépéseiről is – ITT olvashatnak.
URL:https://dunaujvarosivegyeskar.hu/esemeny/adventi-enekles-a-varoshaza-teren/
LOCATION:Városháza tér\, Városháza tér 1.\, Dunaújváros\, Fejér\, 2400\, Hungary
CATEGORIES:esemény,koncert
ATTACH;FMTTYPE=image/jpeg:https://dunaujvarosivegyeskar.hu/wp-content/uploads/2017/10/advent.jpg
END:VEVENT
BEGIN:VEVENT
DTSTART;TZID=Europe/Budapest:20171125T170000
DTEND;TZID=Europe/Budapest:20171125T203000
DTSTAMP:20260420T043122
CREATED:20171026T150936Z
LAST-MODIFIED:20171123T163232Z
UID:2702-1511629200-1511641800@dunaujvarosivegyeskar.hu
SUMMARY:Karai József Emlékkoncert
DESCRIPTION:A Dunaújvárosi Vegyeskar műsora:\n1. Farkas Ferenc: Hajdútánc\n2. Petrovics Emil: Játszik a szél\n3. Bárdos Lajos: Szól a doromb\n4. Karai József: Esti ima \nSzeretettel várunk mindenkit!
URL:https://dunaujvarosivegyeskar.hu/esemeny/karai-jozsef-emlekkoncert/
LOCATION:Bartók Kamaraszínpad és Művészetek Háza\, Dunaújváros\, 2400\, Magyarország
CATEGORIES:esemény,koncert
ATTACH;FMTTYPE=image/jpeg:https://dunaujvarosivegyeskar.hu/wp-content/uploads/2017/11/karai_plakat.jpg
END:VEVENT
BEGIN:VEVENT
DTSTART;TZID=Europe/Budapest:20171118T170000
DTEND;TZID=Europe/Budapest:20171118T170000
DTSTAMP:20260420T043122
CREATED:20171026T145540Z
LAST-MODIFIED:20171116T200611Z
UID:2699-1511024400-1511024400@dunaujvarosivegyeskar.hu
SUMMARY:Kodály Emlékkoncert Balatonalmádiban
DESCRIPTION:A balatonalmádi Kósa György Zenei Alapfokú Művészeti Iskola szervezésében\nPROGRAM:\n1. nap – Kórustalálkozó\nHelyszín: Pannónia KKK\, Balatomalmádi\n2017. november 18. (szombat) 17 óra \nDunaújvárosi Vegyeskar (karnagyok: Könyves Ágnes és Kurucz Gergely) \nHarmónia Énekegyüttes – Balatonalmádi (karnagy: Demel Eszter) \nPaloznaki Kórus (karnagy: Szabó Lajos) \n2. nap – Balatoni Szolfézsverseny hangversenye\nHelyszín: Kósa György Zenei Alapfokú Művészeti Iskola nagyterem\, Balatonalmádi\n2017. november 22. 13:30 óra \n3. nap – Kodály – rajzpályázat kiállításának megnyitója\nHelyszín: Violinkulcs Galéria (Zeneiskola)\, Balatonalmádi\n2017. november 30. (csütörtök) 16:30 óra \nTovábbi részletek ITT! \nTámogatók: Balatonalmádi Város Önkormányzata\, Kósa György Zenei AMI
URL:https://dunaujvarosivegyeskar.hu/esemeny/kodaly-emlekkoncert/
LOCATION:Pannónia KKK\, Városháza tér 4.\, Balatonalmádi\, 8220\, Magyarország
CATEGORIES:esemény,koncert
ATTACH;FMTTYPE=image/jpeg:https://dunaujvarosivegyeskar.hu/wp-content/uploads/2017/10/meghivo-kodaly-almadi.jpg
END:VEVENT
END:VCALENDAR